BEGIN:VCALENDAR
VERSION:2.0
PRODID:-//Parish of Castleknock and Mulhuddart with Clonsilla - ECPv6.15.20//NONSGML v1.0//EN
CALSCALE:GREGORIAN
METHOD:PUBLISH
X-WR-CALNAME:Parish of Castleknock and Mulhuddart with Clonsilla
X-ORIGINAL-URL:https://castleknock.dublin.anglican.org
X-WR-CALDESC:Events for Parish of Castleknock and Mulhuddart with Clonsilla
REFRESH-INTERVAL;VALUE=DURATION:PT1H
X-Robots-Tag:noindex
X-PUBLISHED-TTL:PT1H
BEGIN:VTIMEZONE
TZID:Europe/Dublin
BEGIN:STANDARD
TZOFFSETFROM:+0000
TZOFFSETTO:+0100
TZNAME:IST
DTSTART:20240331T010000
END:STANDARD
BEGIN:DAYLIGHT
TZOFFSETFROM:+0100
TZOFFSETTO:+0000
TZNAME:GMT
DTSTART:20241027T010000
END:DAYLIGHT
BEGIN:STANDARD
TZOFFSETFROM:+0000
TZOFFSETTO:+0100
TZNAME:IST
DTSTART:20250330T010000
END:STANDARD
BEGIN:DAYLIGHT
TZOFFSETFROM:+0100
TZOFFSETTO:+0000
TZNAME:GMT
DTSTART:20251026T010000
END:DAYLIGHT
BEGIN:STANDARD
TZOFFSETFROM:+0000
TZOFFSETTO:+0100
TZNAME:IST
DTSTART:20260329T010000
END:STANDARD
BEGIN:DAYLIGHT
TZOFFSETFROM:+0100
TZOFFSETTO:+0000
TZNAME:GMT
DTSTART:20261025T010000
END:DAYLIGHT
END:VTIMEZONE
BEGIN:VEVENT
DTSTART;TZID=Europe/Dublin:20250202T100000
DTEND;TZID=Europe/Dublin:20250202T110000
DTSTAMP:20260422T234629
CREATED:20250130T163508Z
LAST-MODIFIED:20250130T204251Z
UID:5144-1738490400-1738494000@castleknock.dublin.anglican.org
SUMMARY:Holy Communion
DESCRIPTION:A Service of Holy Communion will be celebrated to mark The Fourth Sunday after The Epiphany / The Presentation of Christ in the Temple in St. Mary’s Church\, Clonsilla\, on Sunday 2 February 2025. We would love you to join us as we worship together.
URL:https://castleknock.dublin.anglican.org/event/holy-communion-247/
LOCATION:St. Mary’s Church\, Clonsilla
CATEGORIES:Services
END:VEVENT
BEGIN:VEVENT
DTSTART;TZID=Europe/Dublin:20250209T100000
DTEND;TZID=Europe/Dublin:20250209T110000
DTSTAMP:20260422T234629
CREATED:20250130T163517Z
LAST-MODIFIED:20250130T204254Z
UID:5150-1739095200-1739098800@castleknock.dublin.anglican.org
SUMMARY:Morning Prayer
DESCRIPTION:There will be a service of Morning Prayer to mark The Fourth Sunday before Lent in St. Mary’s Church\, Clonsilla\, on Sunday 9 February 2025. We would love you to join us as we worship together.
URL:https://castleknock.dublin.anglican.org/event/morning-prayer-98/
LOCATION:St. Mary’s Church\, Clonsilla
CATEGORIES:Services
END:VEVENT
BEGIN:VEVENT
DTSTART;TZID=Europe/Dublin:20250216T100000
DTEND;TZID=Europe/Dublin:20250216T110000
DTSTAMP:20260422T234629
CREATED:20250130T163532Z
LAST-MODIFIED:20250130T204310Z
UID:5156-1739700000-1739703600@castleknock.dublin.anglican.org
SUMMARY:Holy Communion
DESCRIPTION:A Service of Holy Communion will be celebrated to mark The Third Sunday before Lent in St. Mary’s Church\, Clonsilla\, on Sunday 16 February 2025. We would love you to join us as we worship together.
URL:https://castleknock.dublin.anglican.org/event/holy-communion-249/
LOCATION:St. Mary’s Church\, Clonsilla
CATEGORIES:Services
END:VEVENT
BEGIN:VEVENT
DTSTART;TZID=Europe/Dublin:20250223T100000
DTEND;TZID=Europe/Dublin:20250223T110000
DTSTAMP:20260422T234629
CREATED:20250130T163618Z
LAST-MODIFIED:20250130T204340Z
UID:5163-1740304800-1740308400@castleknock.dublin.anglican.org
SUMMARY:Service of the Word
DESCRIPTION:There will be a Service of the Word to mark The Second Sunday before Lent in St. Mary’s Church\, Clonsilla\, on Sunday 23 February 2025. We would love you to join us as we worship together.
URL:https://castleknock.dublin.anglican.org/event/service-of-the-word-15/
LOCATION:St. Mary’s Church\, Clonsilla
CATEGORIES:Services
END:VEVENT
END:VCALENDAR