BEGIN:VCALENDAR
VERSION:2.0
PRODID:-//Parish of Castleknock and Mulhuddart with Clonsilla - ECPv6.15.20//NONSGML v1.0//EN
CALSCALE:GREGORIAN
METHOD:PUBLISH
X-WR-CALNAME:Parish of Castleknock and Mulhuddart with Clonsilla
X-ORIGINAL-URL:https://castleknock.dublin.anglican.org
X-WR-CALDESC:Events for Parish of Castleknock and Mulhuddart with Clonsilla
REFRESH-INTERVAL;VALUE=DURATION:PT1H
X-Robots-Tag:noindex
X-PUBLISHED-TTL:PT1H
BEGIN:VTIMEZONE
TZID:Europe/Dublin
BEGIN:STANDARD
TZOFFSETFROM:+0000
TZOFFSETTO:+0100
TZNAME:IST
DTSTART:20230326T010000
END:STANDARD
BEGIN:DAYLIGHT
TZOFFSETFROM:+0100
TZOFFSETTO:+0000
TZNAME:GMT
DTSTART:20231029T010000
END:DAYLIGHT
BEGIN:STANDARD
TZOFFSETFROM:+0000
TZOFFSETTO:+0100
TZNAME:IST
DTSTART:20240331T010000
END:STANDARD
BEGIN:DAYLIGHT
TZOFFSETFROM:+0100
TZOFFSETTO:+0000
TZNAME:GMT
DTSTART:20241027T010000
END:DAYLIGHT
BEGIN:STANDARD
TZOFFSETFROM:+0000
TZOFFSETTO:+0100
TZNAME:IST
DTSTART:20250330T010000
END:STANDARD
BEGIN:DAYLIGHT
TZOFFSETFROM:+0100
TZOFFSETTO:+0000
TZNAME:GMT
DTSTART:20251026T010000
END:DAYLIGHT
END:VTIMEZONE
BEGIN:VEVENT
DTSTART;TZID=Europe/Dublin:20240107T100000
DTEND;TZID=Europe/Dublin:20240107T110000
DTSTAMP:20260421T135107
CREATED:20231221T141043Z
LAST-MODIFIED:20231221T141048Z
UID:4366-1704621600-1704625200@castleknock.dublin.anglican.org
SUMMARY:Holy Communion
DESCRIPTION:A Service of Holy Communion will be celebrated to mark The First Sunday after the Epiphany / The Baptism of our Lord in St. Mary’s Church\, Clonsilla\, on Sunday 7 January 2024. We would love you to join us as we worship together.
URL:https://castleknock.dublin.anglican.org/event/holy-communion-183/
LOCATION:St. Mary’s Church\, Clonsilla
CATEGORIES:Services
END:VEVENT
BEGIN:VEVENT
DTSTART;TZID=Europe/Dublin:20240114T100000
DTEND;TZID=Europe/Dublin:20240114T110000
DTSTAMP:20260421T135107
CREATED:20231221T141046Z
LAST-MODIFIED:20231221T141048Z
UID:4369-1705226400-1705230000@castleknock.dublin.anglican.org
SUMMARY:Morning Prayer
DESCRIPTION:There will be a service of Morning Prayer to mark The Second Sunday after the Epiphany in St. Mary’s Church\, Clonsilla\, on Sunday 14 January 2024. We would love you to join us as we worship together.
URL:https://castleknock.dublin.anglican.org/event/morning-prayer-75/
LOCATION:St. Mary’s Church\, Clonsilla
CATEGORIES:Services
END:VEVENT
BEGIN:VEVENT
DTSTART;TZID=Europe/Dublin:20240121T100000
DTEND;TZID=Europe/Dublin:20240121T110000
DTSTAMP:20260421T135107
CREATED:20231221T141303Z
LAST-MODIFIED:20231221T141303Z
UID:4380-1705831200-1705834800@castleknock.dublin.anglican.org
SUMMARY:Holy Communion
DESCRIPTION:A Service of Holy Communion will be celebrated to mark The Third Sunday after the Epiphany in St. Mary’s Church\, Clonsilla\, on Sunday 21 January 2024. We would love you to join us as we worship together.
URL:https://castleknock.dublin.anglican.org/event/holy-communion-185/
LOCATION:St. Mary’s Church\, Clonsilla
CATEGORIES:Services
END:VEVENT
BEGIN:VEVENT
DTSTART;TZID=Europe/Dublin:20240128T100000
DTEND;TZID=Europe/Dublin:20240128T110000
DTSTAMP:20260421T135107
CREATED:20231221T141305Z
LAST-MODIFIED:20240126T172152Z
UID:4383-1706436000-1706439600@castleknock.dublin.anglican.org
SUMMARY:Service of the Word with Habitat for Humanity
DESCRIPTION:There will be a Service of the Word with Habitat for Humanity to mark The Fourth Sunday after the Epiphany in St. Mary’s Church\, Clonsilla\, on Sunday 28 January 2024. We would love you to join us as we worship together. \nWe will also say goodbye to our organist\, Fern Bartley.
URL:https://castleknock.dublin.anglican.org/event/cornerstone-service-with-habitat-for-humanity/
LOCATION:St. Mary’s Church\, Clonsilla
CATEGORIES:Services
END:VEVENT
END:VCALENDAR