BEGIN:VCALENDAR
VERSION:2.0
PRODID:-//Parish of Castleknock and Mulhuddart with Clonsilla - ECPv6.15.20//NONSGML v1.0//EN
CALSCALE:GREGORIAN
METHOD:PUBLISH
X-WR-CALNAME:Parish of Castleknock and Mulhuddart with Clonsilla
X-ORIGINAL-URL:https://castleknock.dublin.anglican.org
X-WR-CALDESC:Events for Parish of Castleknock and Mulhuddart with Clonsilla
REFRESH-INTERVAL;VALUE=DURATION:PT1H
X-Robots-Tag:noindex
X-PUBLISHED-TTL:PT1H
BEGIN:VTIMEZONE
TZID:Europe/Dublin
BEGIN:STANDARD
TZOFFSETFROM:+0000
TZOFFSETTO:+0100
TZNAME:IST
DTSTART:20230326T010000
END:STANDARD
BEGIN:DAYLIGHT
TZOFFSETFROM:+0100
TZOFFSETTO:+0000
TZNAME:GMT
DTSTART:20231029T010000
END:DAYLIGHT
BEGIN:STANDARD
TZOFFSETFROM:+0000
TZOFFSETTO:+0100
TZNAME:IST
DTSTART:20240331T010000
END:STANDARD
BEGIN:DAYLIGHT
TZOFFSETFROM:+0100
TZOFFSETTO:+0000
TZNAME:GMT
DTSTART:20241027T010000
END:DAYLIGHT
BEGIN:STANDARD
TZOFFSETFROM:+0000
TZOFFSETTO:+0100
TZNAME:IST
DTSTART:20250330T010000
END:STANDARD
BEGIN:DAYLIGHT
TZOFFSETFROM:+0100
TZOFFSETTO:+0000
TZNAME:GMT
DTSTART:20251026T010000
END:DAYLIGHT
END:VTIMEZONE
BEGIN:VEVENT
DTSTART;TZID=Europe/Dublin:20240407T113000
DTEND;TZID=Europe/Dublin:20240407T123000
DTSTAMP:20260424T191629
CREATED:20240301T205611Z
LAST-MODIFIED:20240406T143127Z
UID:4523-1712489400-1712493000@castleknock.dublin.anglican.org
SUMMARY:Holy Communion
DESCRIPTION:A Service of Holy Communion will be celebrated to mark The Second Sunday of Easter in St. Brigid’s Church\, Castleknock\, on Sunday 7 April 2024. We would love you to join us as we worship together. Please feel free to share! This service will be live streamed on our YouTube channel on https://www.youtube.com/channel/UC_4GE2QH5nUxy5CdRZqoMrA.
URL:https://castleknock.dublin.anglican.org/event/holy-communion-200/
LOCATION:St. Brigid’s Church\, Castleknock
CATEGORIES:Services
END:VEVENT
BEGIN:VEVENT
DTSTART;TZID=Europe/Dublin:20240414T113000
DTEND;TZID=Europe/Dublin:20240414T123000
DTSTAMP:20260424T191629
CREATED:20240406T143142Z
LAST-MODIFIED:20240412T185210Z
UID:4567-1713094200-1713097800@castleknock.dublin.anglican.org
SUMMARY:Morning Prayer
DESCRIPTION:There will be a service of Morning Prayer to mark The Third Sunday of Easter in St. Brigid’s Church\, Castleknock\, on Sunday 14 April 2024. We would love you to join us as we worship together. Please feel free to share! This service will be live streamed on our YouTube channel on https://youtube.com/live/slNuqIP–Ms.
URL:https://castleknock.dublin.anglican.org/event/morning-prayer-82/
LOCATION:St. Brigid’s Church\, Castleknock
CATEGORIES:Services
END:VEVENT
BEGIN:VEVENT
DTSTART;TZID=Europe/Dublin:20240421T113000
DTEND;TZID=Europe/Dublin:20240421T123000
DTSTAMP:20260424T191629
CREATED:20240406T143207Z
LAST-MODIFIED:20240419T180322Z
UID:4574-1713699000-1713702600@castleknock.dublin.anglican.org
SUMMARY:Holy Communion
DESCRIPTION:A Service of Holy Communion will be celebrated to mark The Fourth Sunday of Easter in St. Brigid’s Church\, Castleknock\, on Sunday 21 April 2024. We would love you to join us as we worship together. Please feel free to share! This service will be live streamed on our YouTube channel on https://youtube.com/live/HL3co7pyu3k.
URL:https://castleknock.dublin.anglican.org/event/holy-communion-202/
LOCATION:St. Brigid’s Church\, Castleknock
CATEGORIES:Services
END:VEVENT
BEGIN:VEVENT
DTSTART;TZID=Europe/Dublin:20240428T113000
DTEND;TZID=Europe/Dublin:20240428T123000
DTSTAMP:20260424T191630
CREATED:20240406T143221Z
LAST-MODIFIED:20240426T070226Z
UID:4578-1714303800-1714307400@castleknock.dublin.anglican.org
SUMMARY:Confirmation service
DESCRIPTION:The Confirmation service will take place in St. Brigid’s Church\, Castleknock\, on Sunday 28 April 2024. We would love you to join us as we worship together. Please feel free to share! This service will be live streamed on our YouTube channel on https://youtube.com/live/W142fAlSCQ0.
URL:https://castleknock.dublin.anglican.org/event/confirmation-service-2/
LOCATION:St. Brigid’s Church\, Castleknock
CATEGORIES:Services
END:VEVENT
END:VCALENDAR