BEGIN:VCALENDAR
VERSION:2.0
PRODID:-//Parish of Castleknock and Mulhuddart with Clonsilla - ECPv6.15.20//NONSGML v1.0//EN
CALSCALE:GREGORIAN
METHOD:PUBLISH
X-ORIGINAL-URL:https://castleknock.dublin.anglican.org
X-WR-CALDESC:Events for Parish of Castleknock and Mulhuddart with Clonsilla
REFRESH-INTERVAL;VALUE=DURATION:PT1H
X-Robots-Tag:noindex
X-PUBLISHED-TTL:PT1H
BEGIN:VTIMEZONE
TZID:Europe/Dublin
BEGIN:STANDARD
TZOFFSETFROM:+0000
TZOFFSETTO:+0100
TZNAME:IST
DTSTART:20230326T010000
END:STANDARD
BEGIN:DAYLIGHT
TZOFFSETFROM:+0100
TZOFFSETTO:+0000
TZNAME:GMT
DTSTART:20231029T010000
END:DAYLIGHT
BEGIN:STANDARD
TZOFFSETFROM:+0000
TZOFFSETTO:+0100
TZNAME:IST
DTSTART:20240331T010000
END:STANDARD
BEGIN:DAYLIGHT
TZOFFSETFROM:+0100
TZOFFSETTO:+0000
TZNAME:GMT
DTSTART:20241027T010000
END:DAYLIGHT
BEGIN:STANDARD
TZOFFSETFROM:+0000
TZOFFSETTO:+0100
TZNAME:IST
DTSTART:20250330T010000
END:STANDARD
BEGIN:DAYLIGHT
TZOFFSETFROM:+0100
TZOFFSETTO:+0000
TZNAME:GMT
DTSTART:20251026T010000
END:DAYLIGHT
END:VTIMEZONE
BEGIN:VEVENT
DTSTART;TZID=Europe/Dublin:20240703T103000
DTEND;TZID=Europe/Dublin:20240703T113000
DTSTAMP:20260424T163444
CREATED:20240628T144051Z
LAST-MODIFIED:20240705T100410Z
UID:4705-1720002600-1720006200@castleknock.dublin.anglican.org
SUMMARY:Midweek Holy Communion Service
DESCRIPTION:There will be a Midweek Holy Communion Service in Castleknock Parish Centre\, followed by coffee and a chat\, on Wednesday 3 July 2024. We would love you to join us as we worship together.
URL:https://castleknock.dublin.anglican.org/event/midweek-holy-communion-service-116/
LOCATION:Castleknock Parish Centre
CATEGORIES:Services
END:VEVENT
BEGIN:VEVENT
DTSTART;TZID=Europe/Dublin:20240710T103000
DTEND;TZID=Europe/Dublin:20240710T113000
DTSTAMP:20260424T163444
CREATED:20240628T144057Z
LAST-MODIFIED:20240705T100412Z
UID:4709-1720607400-1720611000@castleknock.dublin.anglican.org
SUMMARY:Midweek Holy Communion Service
DESCRIPTION:There will be a Midweek Holy Communion Service in Castleknock Parish Centre\, followed by coffee and a chat\, on Wednesday 10 July 2024. We would love you to join us as we worship together.
URL:https://castleknock.dublin.anglican.org/event/midweek-holy-communion-service-117/
LOCATION:Castleknock Parish Centre
CATEGORIES:Services
END:VEVENT
BEGIN:VEVENT
DTSTART;TZID=Europe/Dublin:20240717T103000
DTEND;TZID=Europe/Dublin:20240717T113000
DTSTAMP:20260424T163444
CREATED:20240628T144106Z
LAST-MODIFIED:20240705T100418Z
UID:4713-1721212200-1721215800@castleknock.dublin.anglican.org
SUMMARY:Midweek Holy Communion Service
DESCRIPTION:There will be a Midweek Holy Communion Service in Castleknock Parish Centre\, followed by coffee and a chat\, on Wednesday 17 July 2024. We would love you to join us as we worship together.
URL:https://castleknock.dublin.anglican.org/event/midweek-holy-communion-service-118/
LOCATION:Castleknock Parish Centre
CATEGORIES:Services
END:VEVENT
BEGIN:VEVENT
DTSTART;TZID=Europe/Dublin:20240724T103000
DTEND;TZID=Europe/Dublin:20240724T113000
DTSTAMP:20260424T163444
CREATED:20240628T144123Z
LAST-MODIFIED:20240705T100421Z
UID:4716-1721817000-1721820600@castleknock.dublin.anglican.org
SUMMARY:Midweek Holy Communion Service
DESCRIPTION:There will be a Midweek Holy Communion Service in Castleknock Parish Centre\, followed by coffee and a chat\, on Wednesday 24 July 2024. We would love you to join us as we worship together.
URL:https://castleknock.dublin.anglican.org/event/midweek-holy-communion-service-119/
LOCATION:Castleknock Parish Centre
CATEGORIES:Services
END:VEVENT
BEGIN:VEVENT
DTSTART;TZID=Europe/Dublin:20240731T103000
DTEND;TZID=Europe/Dublin:20240731T113000
DTSTAMP:20260424T163444
CREATED:20240628T144136Z
LAST-MODIFIED:20240705T100437Z
UID:4721-1722421800-1722425400@castleknock.dublin.anglican.org
SUMMARY:Midweek Holy Communion Service
DESCRIPTION:There will be a Midweek Holy Communion Service in Castleknock Parish Centre\, followed by coffee and a chat\, on Wednesday 31 July 2024. We would love you to join us as we worship together.
URL:https://castleknock.dublin.anglican.org/event/midweek-holy-communion-service-120/
LOCATION:Castleknock Parish Centre
CATEGORIES:Services
END:VEVENT
END:VCALENDAR