BEGIN:VCALENDAR
VERSION:2.0
PRODID:-//Parish of Castleknock and Mulhuddart with Clonsilla - ECPv6.15.20//NONSGML v1.0//EN
CALSCALE:GREGORIAN
METHOD:PUBLISH
X-WR-CALNAME:Parish of Castleknock and Mulhuddart with Clonsilla
X-ORIGINAL-URL:https://castleknock.dublin.anglican.org
X-WR-CALDESC:Events for Parish of Castleknock and Mulhuddart with Clonsilla
REFRESH-INTERVAL;VALUE=DURATION:PT1H
X-Robots-Tag:noindex
X-PUBLISHED-TTL:PT1H
BEGIN:VTIMEZONE
TZID:Europe/Dublin
BEGIN:STANDARD
TZOFFSETFROM:+0000
TZOFFSETTO:+0100
TZNAME:IST
DTSTART:20250330T010000
END:STANDARD
BEGIN:DAYLIGHT
TZOFFSETFROM:+0100
TZOFFSETTO:+0000
TZNAME:GMT
DTSTART:20251026T010000
END:DAYLIGHT
BEGIN:STANDARD
TZOFFSETFROM:+0000
TZOFFSETTO:+0100
TZNAME:IST
DTSTART:20260329T010000
END:STANDARD
BEGIN:DAYLIGHT
TZOFFSETFROM:+0100
TZOFFSETTO:+0000
TZNAME:GMT
DTSTART:20261025T010000
END:DAYLIGHT
BEGIN:STANDARD
TZOFFSETFROM:+0000
TZOFFSETTO:+0100
TZNAME:IST
DTSTART:20270328T010000
END:STANDARD
BEGIN:DAYLIGHT
TZOFFSETFROM:+0100
TZOFFSETTO:+0000
TZNAME:GMT
DTSTART:20271031T010000
END:DAYLIGHT
END:VTIMEZONE
BEGIN:VEVENT
DTSTART;TZID=Europe/Dublin:20260104T100000
DTEND;TZID=Europe/Dublin:20260104T110000
DTSTAMP:20260420T062056
CREATED:20251201T111147Z
LAST-MODIFIED:20251229T101508Z
UID:5775-1767520800-1767524400@castleknock.dublin.anglican.org
SUMMARY:Holy Communion
DESCRIPTION:A Service of Holy Communion will be celebrated to mark The Second Sunday of Christmas / The Epiphany in St. Mary’s Church\, Clonsilla\, on Sunday 4 January 2026. We would love you to join us as we worship together.
URL:https://castleknock.dublin.anglican.org/event/holy-communion-301/
LOCATION:St. Mary’s Church\, Clonsilla
CATEGORIES:Services
END:VEVENT
BEGIN:VEVENT
DTSTART;TZID=Europe/Dublin:20260104T113000
DTEND;TZID=Europe/Dublin:20260104T123000
DTSTAMP:20260420T062056
CREATED:20251201T111148Z
LAST-MODIFIED:20260101T193854Z
UID:5776-1767526200-1767529800@castleknock.dublin.anglican.org
SUMMARY:Holy Communion
DESCRIPTION:A Service of Holy Communion will be celebrated to mark The Second Sunday of Christmas / The Epiphany in St. Brigid’s Church\, Castleknock\, on Sunday 4 January 2026. We would love you to join us as we worship together. Please feel free to share! This service will be live streamed on our YouTube channel on https://youtube.com/live/M4ltGEgJBoI.
URL:https://castleknock.dublin.anglican.org/event/holy-communion-302/
LOCATION:St. Brigid’s Church\, Castleknock
CATEGORIES:Services
END:VEVENT
BEGIN:VEVENT
DTSTART;TZID=Europe/Dublin:20260107T103000
DTEND;TZID=Europe/Dublin:20260107T113000
DTSTAMP:20260420T062056
CREATED:20251201T111149Z
LAST-MODIFIED:20251229T101508Z
UID:5777-1767781800-1767785400@castleknock.dublin.anglican.org
SUMMARY:Midweek Holy Communion Service
DESCRIPTION:There will be a Midweek Holy Communion Service in Castleknock Parish Centre\, followed by coffee and a chat\, on Wednesday 7 January 2026. We would love you to join us as we worship together.
URL:https://castleknock.dublin.anglican.org/event/midweek-holy-communion-service-196/
LOCATION:Castleknock Parish Centre
CATEGORIES:Services
END:VEVENT
BEGIN:VEVENT
DTSTART;TZID=Europe/Dublin:20260114T103000
DTEND;TZID=Europe/Dublin:20260114T113000
DTSTAMP:20260420T062056
CREATED:20251201T111202Z
LAST-MODIFIED:20251229T101523Z
UID:5780-1768386600-1768390200@castleknock.dublin.anglican.org
SUMMARY:Midweek Holy Communion Service
DESCRIPTION:There will be a Midweek Holy Communion Service in Castleknock Parish Centre\, followed by coffee and a chat\, on Wednesday 14 January 2026. We would love you to join us as we worship together.
URL:https://castleknock.dublin.anglican.org/event/midweek-holy-communion-service-197/
LOCATION:Castleknock Parish Centre
CATEGORIES:Services
END:VEVENT
BEGIN:VEVENT
DTSTART;TZID=Europe/Dublin:20260121T103000
DTEND;TZID=Europe/Dublin:20260121T113000
DTSTAMP:20260420T062056
CREATED:20251201T111204Z
LAST-MODIFIED:20251229T101523Z
UID:5782-1768991400-1768995000@castleknock.dublin.anglican.org
SUMMARY:Midweek Holy Communion Service
DESCRIPTION:There will be a Midweek Holy Communion Service in Castleknock Parish Centre\, followed by coffee and a chat\, on Wednesday 21 January 2026. We would love you to join us as we worship together.
URL:https://castleknock.dublin.anglican.org/event/midweek-holy-communion-service-198/
LOCATION:Castleknock Parish Centre
CATEGORIES:Services
END:VEVENT
BEGIN:VEVENT
DTSTART;TZID=Europe/Dublin:20260125T200000
DTEND;TZID=Europe/Dublin:20260125T210000
DTSTAMP:20260420T062056
CREATED:20251201T111218Z
LAST-MODIFIED:20251229T101537Z
UID:5785-1769371200-1769374800@castleknock.dublin.anglican.org
SUMMARY:Holy Communion
DESCRIPTION:A Service of Holy Communion will be celebrated to mark The Third Sunday after the Epiphany / The Conversion of Saint Paul in St. Thomas’ Church\, Mulhuddart\, on Sunday 25 January 2026. We would love you to join us as we worship together.
URL:https://castleknock.dublin.anglican.org/event/holy-communion-303/
LOCATION:St. Thomas’ Church\, Mulhuddart
CATEGORIES:Services
END:VEVENT
BEGIN:VEVENT
DTSTART;TZID=Europe/Dublin:20260128T103000
DTEND;TZID=Europe/Dublin:20260128T113000
DTSTAMP:20260420T062056
CREATED:20251201T111219Z
LAST-MODIFIED:20251229T101537Z
UID:5786-1769596200-1769599800@castleknock.dublin.anglican.org
SUMMARY:Midweek Holy Communion Service
DESCRIPTION:There will be a Midweek Holy Communion Service in Castleknock Parish Centre\, followed by coffee and a chat\, on Wednesday 28 January 2026. We would love you to join us as we worship together.
URL:https://castleknock.dublin.anglican.org/event/midweek-holy-communion-service-199/
LOCATION:Castleknock Parish Centre
CATEGORIES:Services
END:VEVENT
END:VCALENDAR