BEGIN:VCALENDAR
VERSION:2.0
PRODID:-//Parish of Castleknock and Mulhuddart with Clonsilla - ECPv6.15.20//NONSGML v1.0//EN
CALSCALE:GREGORIAN
METHOD:PUBLISH
X-ORIGINAL-URL:https://castleknock.dublin.anglican.org
X-WR-CALDESC:Events for Parish of Castleknock and Mulhuddart with Clonsilla
REFRESH-INTERVAL;VALUE=DURATION:PT1H
X-Robots-Tag:noindex
X-PUBLISHED-TTL:PT1H
BEGIN:VTIMEZONE
TZID:Europe/Dublin
BEGIN:STANDARD
TZOFFSETFROM:+0000
TZOFFSETTO:+0100
TZNAME:IST
DTSTART:20240331T010000
END:STANDARD
BEGIN:DAYLIGHT
TZOFFSETFROM:+0100
TZOFFSETTO:+0000
TZNAME:GMT
DTSTART:20241027T010000
END:DAYLIGHT
BEGIN:STANDARD
TZOFFSETFROM:+0000
TZOFFSETTO:+0100
TZNAME:IST
DTSTART:20250330T010000
END:STANDARD
BEGIN:DAYLIGHT
TZOFFSETFROM:+0100
TZOFFSETTO:+0000
TZNAME:GMT
DTSTART:20251026T010000
END:DAYLIGHT
BEGIN:STANDARD
TZOFFSETFROM:+0000
TZOFFSETTO:+0100
TZNAME:IST
DTSTART:20260329T010000
END:STANDARD
BEGIN:DAYLIGHT
TZOFFSETFROM:+0100
TZOFFSETTO:+0000
TZNAME:GMT
DTSTART:20261025T010000
END:DAYLIGHT
END:VTIMEZONE
BEGIN:VEVENT
DTSTART;TZID=Europe/Dublin:20250601T100000
DTEND;TZID=Europe/Dublin:20250601T110000
DTSTAMP:20260424T181019
CREATED:20250412T204550Z
LAST-MODIFIED:20250412T204550Z
UID:5442-1748772000-1748775600@castleknock.dublin.anglican.org
SUMMARY:Holy Communion
DESCRIPTION:A Service of Holy Communion will be celebrated to mark The Seventh Sunday of Easter / Sunday after the Ascension Day in St. Mary’s Church\, Clonsilla\, on Sunday 1 June 2025. We would love you to join us as we worship together.
URL:https://castleknock.dublin.anglican.org/event/holy-communion-272/
LOCATION:St. Mary’s Church\, Clonsilla
CATEGORIES:Services
END:VEVENT
BEGIN:VEVENT
DTSTART;TZID=Europe/Dublin:20250601T113000
DTEND;TZID=Europe/Dublin:20250601T123000
DTSTAMP:20260424T181019
CREATED:20250412T205536Z
LAST-MODIFIED:20250601T151105Z
UID:5452-1748777400-1748781000@castleknock.dublin.anglican.org
SUMMARY:Holy Communion
DESCRIPTION:A Service of Holy Communion will be celebrated to mark The Seventh Sunday of Easter / Sunday after the Ascension Day in St. Brigid’s Church\, Castleknock\, on Sunday 1 June 2025. We would love you to join us as we worship together. Please feel free to share! This service will be live streamed on our YouTube channel on https://youtube.com/live/J23mjelwX-Q.
URL:https://castleknock.dublin.anglican.org/event/holy-communion-276/
LOCATION:St. Brigid’s Church\, Castleknock
CATEGORIES:Services
END:VEVENT
BEGIN:VEVENT
DTSTART;TZID=Europe/Dublin:20250604T103000
DTEND;TZID=Europe/Dublin:20250604T113000
DTSTAMP:20260424T181019
CREATED:20250412T205540Z
LAST-MODIFIED:20250412T205540Z
UID:5453-1749033000-1749036600@castleknock.dublin.anglican.org
SUMMARY:Midweek Holy Communion Service
DESCRIPTION:There will be a Midweek Holy Communion Service in Castleknock Parish Centre\, followed by coffee and a chat\, on Wednesday 4 June 2025. We would love you to join us as we worship together.
URL:https://castleknock.dublin.anglican.org/event/midweek-holy-communion-service-164/
LOCATION:Castleknock Parish Centre
CATEGORIES:Services
END:VEVENT
BEGIN:VEVENT
DTSTART;TZID=Europe/Dublin:20250611T103000
DTEND;TZID=Europe/Dublin:20250611T113000
DTSTAMP:20260424T181019
CREATED:20250412T210340Z
LAST-MODIFIED:20250412T210340Z
UID:5464-1749637800-1749641400@castleknock.dublin.anglican.org
SUMMARY:Midweek Holy Communion Service
DESCRIPTION:There will be a Midweek Holy Communion Service in Castleknock Parish Centre\, followed by coffee and a chat\, on Wednesday 11 June 2025. We would love you to join us as we worship together.
URL:https://castleknock.dublin.anglican.org/event/midweek-holy-communion-service-168/
LOCATION:Castleknock Parish Centre
CATEGORIES:Services
END:VEVENT
BEGIN:VEVENT
DTSTART;TZID=Europe/Dublin:20250618T103000
DTEND;TZID=Europe/Dublin:20250618T113000
DTSTAMP:20260424T181019
CREATED:20250412T210350Z
LAST-MODIFIED:20250412T210350Z
UID:5467-1750242600-1750246200@castleknock.dublin.anglican.org
SUMMARY:Midweek Holy Communion Service
DESCRIPTION:There will be a Midweek Holy Communion Service in Castleknock Parish Centre\, followed by coffee and a chat\, on Wednesday 18 June 2025. We would love you to join us as we worship together.
URL:https://castleknock.dublin.anglican.org/event/midweek-holy-communion-service-169/
LOCATION:Castleknock Parish Centre
CATEGORIES:Services
END:VEVENT
BEGIN:VEVENT
DTSTART;TZID=Europe/Dublin:20250622T200000
DTEND;TZID=Europe/Dublin:20250622T210000
DTSTAMP:20260424T181019
CREATED:20250412T210923Z
LAST-MODIFIED:20250412T210923Z
UID:5472-1750622400-1750626000@castleknock.dublin.anglican.org
SUMMARY:Holy Communion
DESCRIPTION:A Service of Holy Communion will be celebrated to mark The First Sunday after Trinity in St. Thomas’ Church\, Mulhuddart\, on Sunday 22 June 2025. We would love you to join us as we worship together.
URL:https://castleknock.dublin.anglican.org/event/holy-communion-278/
LOCATION:St. Thomas’ Church\, Mulhuddart
CATEGORIES:Services
END:VEVENT
BEGIN:VEVENT
DTSTART;TZID=Europe/Dublin:20250625T103000
DTEND;TZID=Europe/Dublin:20250625T113000
DTSTAMP:20260424T181019
CREATED:20250412T210926Z
LAST-MODIFIED:20250412T210926Z
UID:5473-1750847400-1750851000@castleknock.dublin.anglican.org
SUMMARY:Midweek Holy Communion Service
DESCRIPTION:There will be a Midweek Holy Communion Service in Castleknock Parish Centre\, followed by coffee and a chat\, on Wednesday 25 June 2025. We would love you to join us as we worship together.
URL:https://castleknock.dublin.anglican.org/event/midweek-holy-communion-service-170/
LOCATION:Castleknock Parish Centre
CATEGORIES:Services
END:VEVENT
END:VCALENDAR