BEGIN:VCALENDAR
VERSION:2.0
PRODID:-//Parish of Castleknock and Mulhuddart with Clonsilla - ECPv6.15.20//NONSGML v1.0//EN
CALSCALE:GREGORIAN
METHOD:PUBLISH
X-WR-CALNAME:Parish of Castleknock and Mulhuddart with Clonsilla
X-ORIGINAL-URL:https://castleknock.dublin.anglican.org
X-WR-CALDESC:Events for Parish of Castleknock and Mulhuddart with Clonsilla
REFRESH-INTERVAL;VALUE=DURATION:PT1H
X-Robots-Tag:noindex
X-PUBLISHED-TTL:PT1H
BEGIN:VTIMEZONE
TZID:Europe/Dublin
BEGIN:STANDARD
TZOFFSETFROM:+0000
TZOFFSETTO:+0100
TZNAME:IST
DTSTART:20240331T010000
END:STANDARD
BEGIN:DAYLIGHT
TZOFFSETFROM:+0100
TZOFFSETTO:+0000
TZNAME:GMT
DTSTART:20241027T010000
END:DAYLIGHT
BEGIN:STANDARD
TZOFFSETFROM:+0000
TZOFFSETTO:+0100
TZNAME:IST
DTSTART:20250330T010000
END:STANDARD
BEGIN:DAYLIGHT
TZOFFSETFROM:+0100
TZOFFSETTO:+0000
TZNAME:GMT
DTSTART:20251026T010000
END:DAYLIGHT
BEGIN:STANDARD
TZOFFSETFROM:+0000
TZOFFSETTO:+0100
TZNAME:IST
DTSTART:20260329T010000
END:STANDARD
BEGIN:DAYLIGHT
TZOFFSETFROM:+0100
TZOFFSETTO:+0000
TZNAME:GMT
DTSTART:20261025T010000
END:DAYLIGHT
END:VTIMEZONE
BEGIN:VEVENT
DTSTART;TZID=Europe/Dublin:20250302T100000
DTEND;TZID=Europe/Dublin:20250302T110000
DTSTAMP:20260423T115721
CREATED:20250130T163833Z
LAST-MODIFIED:20250302T111411Z
UID:5169-1740909600-1740913200@castleknock.dublin.anglican.org
SUMMARY:Holy Communion
DESCRIPTION:A Service of Holy Communion will be celebrated to mark The Sunday before Lent in St. Mary’s Church\, Clonsilla\, on Sunday 2 March 2025. We would love you to join us as we worship together.
URL:https://castleknock.dublin.anglican.org/event/holy-communion-251/
LOCATION:St. Mary’s Church\, Clonsilla
CATEGORIES:Services
END:VEVENT
BEGIN:VEVENT
DTSTART;TZID=Europe/Dublin:20250302T113000
DTEND;TZID=Europe/Dublin:20250302T123000
DTSTAMP:20260423T115721
CREATED:20250130T163834Z
LAST-MODIFIED:20250302T111411Z
UID:5170-1740915000-1740918600@castleknock.dublin.anglican.org
SUMMARY:Holy Communion
DESCRIPTION:A Service of Holy Communion will be celebrated to mark The Sunday before Lent in St. Brigid’s Church\, Castleknock\, on Sunday 2 March 2025. We would love you to join us as we worship together. Please feel free to share! This service will be live streamed on our YouTube channel on https://www.youtube.com/channel/UC_4GE2QH5nUxy5CdRZqoMrA.
URL:https://castleknock.dublin.anglican.org/event/holy-communion-252/
LOCATION:St. Brigid’s Church\, Castleknock
CATEGORIES:Services
END:VEVENT
BEGIN:VEVENT
DTSTART;TZID=Europe/Dublin:20250305T103000
DTEND;TZID=Europe/Dublin:20250305T113000
DTSTAMP:20260423T115721
CREATED:20250302T111412Z
LAST-MODIFIED:20250302T111412Z
UID:5294-1741170600-1741174200@castleknock.dublin.anglican.org
SUMMARY:Ash Wednesday
DESCRIPTION:There will be a Ash Wednesday in Castleknock Parish Centre\, followed by coffee and a chat\, on Wednesday 5 March 2025. We would love you to join us as we worship together.
URL:https://castleknock.dublin.anglican.org/event/ash-wednesday-5/
LOCATION:Castleknock Parish Centre
CATEGORIES:Services
END:VEVENT
BEGIN:VEVENT
DTSTART;TZID=Europe/Dublin:20250305T193000
DTEND;TZID=Europe/Dublin:20250305T203000
DTSTAMP:20260423T115721
CREATED:20250302T110858Z
LAST-MODIFIED:20250302T111412Z
UID:5260-1741203000-1741206600@castleknock.dublin.anglican.org
SUMMARY:Ash Wednesday
DESCRIPTION:There will be a reflective Eucharist in St. Brigid’s Church\, Castleknock\, at 7.30 p.m. to mark Ash Wednesday and the beginning of our journey through Lent.
URL:https://castleknock.dublin.anglican.org/event/ash-wednesday-4/
LOCATION:St. Brigid’s Church\, Castleknock
CATEGORIES:Services
END:VEVENT
BEGIN:VEVENT
DTSTART;TZID=Europe/Dublin:20250312T103000
DTEND;TZID=Europe/Dublin:20250312T113000
DTSTAMP:20260423T115721
CREATED:20250302T110903Z
LAST-MODIFIED:20250302T111415Z
UID:5264-1741775400-1741779000@castleknock.dublin.anglican.org
SUMMARY:Midweek Holy Communion Service
DESCRIPTION:There will be a Midweek Holy Communion Service in Castleknock Parish Centre\, followed by coffee and a chat\, on Wednesday 12 March 2025. We would love you to join us as we worship together.
URL:https://castleknock.dublin.anglican.org/event/midweek-holy-communion-service-148/
LOCATION:Castleknock Parish Centre
CATEGORIES:Services
END:VEVENT
BEGIN:VEVENT
DTSTART;TZID=Europe/Dublin:20250316T100000
DTEND;TZID=Europe/Dublin:20250316T110000
DTSTAMP:20260423T115721
CREATED:20250302T110904Z
LAST-MODIFIED:20250302T111415Z
UID:5265-1742119200-1742122800@castleknock.dublin.anglican.org
SUMMARY:Holy Communion
DESCRIPTION:A Service of Holy Communion will be celebrated to mark The Second Sunday in Lent in St. Mary’s Church\, Clonsilla\, on Sunday 16 March 2025. We would love you to join us as we worship together.
URL:https://castleknock.dublin.anglican.org/event/holy-communion-253/
LOCATION:St. Mary’s Church\, Clonsilla
CATEGORIES:Services
END:VEVENT
BEGIN:VEVENT
DTSTART;TZID=Europe/Dublin:20250316T113000
DTEND;TZID=Europe/Dublin:20250316T123000
DTSTAMP:20260423T115721
CREATED:20250302T110905Z
LAST-MODIFIED:20250314T105004Z
UID:5266-1742124600-1742128200@castleknock.dublin.anglican.org
SUMMARY:Holy Communion
DESCRIPTION:A Service of Holy Communion will be celebrated to mark The Second Sunday in Lent in St. Brigid’s Church\, Castleknock\, on Sunday 16 March 2025. We would love you to join us as we worship together. Please feel free to share! This service will be live streamed on our YouTube channel on https://youtube.com/live/lCuLkWpVi7U.
URL:https://castleknock.dublin.anglican.org/event/holy-communion-254/
LOCATION:St. Brigid’s Church\, Castleknock
CATEGORIES:Services
END:VEVENT
BEGIN:VEVENT
DTSTART;TZID=Europe/Dublin:20250319T103000
DTEND;TZID=Europe/Dublin:20250319T113000
DTSTAMP:20260423T115721
CREATED:20250302T110922Z
LAST-MODIFIED:20250302T111510Z
UID:5269-1742380200-1742383800@castleknock.dublin.anglican.org
SUMMARY:Midweek Holy Communion Service
DESCRIPTION:There will be a Midweek Holy Communion Service in Castleknock Parish Centre\, followed by coffee and a chat\, on Wednesday 19 March 2025. We would love you to join us as we worship together.
URL:https://castleknock.dublin.anglican.org/event/midweek-holy-communion-service-149/
LOCATION:Castleknock Parish Centre
CATEGORIES:Services
END:VEVENT
BEGIN:VEVENT
DTSTART;TZID=Europe/Dublin:20250323T200000
DTEND;TZID=Europe/Dublin:20250323T210000
DTSTAMP:20260423T115721
CREATED:20250302T110936Z
LAST-MODIFIED:20250302T111523Z
UID:5275-1742760000-1742763600@castleknock.dublin.anglican.org
SUMMARY:Holy Communion
DESCRIPTION:A Service of Holy Communion will be celebrated to mark The Third Sunday in Lent in St. Thomas’ Church\, Mulhuddart\, on Sunday 23 March 2025. We would love you to join us as we worship together.
URL:https://castleknock.dublin.anglican.org/event/holy-communion-255/
LOCATION:St. Thomas’ Church\, Mulhuddart
CATEGORIES:Services
END:VEVENT
BEGIN:VEVENT
DTSTART;TZID=Europe/Dublin:20250326T103000
DTEND;TZID=Europe/Dublin:20250326T113000
DTSTAMP:20260423T115721
CREATED:20250302T110951Z
LAST-MODIFIED:20250302T111541Z
UID:5278-1742985000-1742988600@castleknock.dublin.anglican.org
SUMMARY:Midweek Holy Communion Service
DESCRIPTION:There will be a Midweek Holy Communion Service in Castleknock Parish Centre\, followed by coffee and a chat\, on Wednesday 26 March 2025. We would love you to join us as we worship together.
URL:https://castleknock.dublin.anglican.org/event/midweek-holy-communion-service-150/
LOCATION:Castleknock Parish Centre
CATEGORIES:Services
END:VEVENT
END:VCALENDAR