BEGIN:VCALENDAR
VERSION:2.0
PRODID:-//Parish of Castleknock and Mulhuddart with Clonsilla - ECPv6.15.20//NONSGML v1.0//EN
CALSCALE:GREGORIAN
METHOD:PUBLISH
X-WR-CALNAME:Parish of Castleknock and Mulhuddart with Clonsilla
X-ORIGINAL-URL:https://castleknock.dublin.anglican.org
X-WR-CALDESC:Events for Parish of Castleknock and Mulhuddart with Clonsilla
REFRESH-INTERVAL;VALUE=DURATION:PT1H
X-Robots-Tag:noindex
X-PUBLISHED-TTL:PT1H
BEGIN:VTIMEZONE
TZID:Europe/Dublin
BEGIN:STANDARD
TZOFFSETFROM:+0000
TZOFFSETTO:+0100
TZNAME:IST
DTSTART:20220327T010000
END:STANDARD
BEGIN:DAYLIGHT
TZOFFSETFROM:+0100
TZOFFSETTO:+0000
TZNAME:GMT
DTSTART:20221030T010000
END:DAYLIGHT
BEGIN:STANDARD
TZOFFSETFROM:+0000
TZOFFSETTO:+0100
TZNAME:IST
DTSTART:20230326T010000
END:STANDARD
BEGIN:DAYLIGHT
TZOFFSETFROM:+0100
TZOFFSETTO:+0000
TZNAME:GMT
DTSTART:20231029T010000
END:DAYLIGHT
BEGIN:STANDARD
TZOFFSETFROM:+0000
TZOFFSETTO:+0100
TZNAME:IST
DTSTART:20240331T010000
END:STANDARD
BEGIN:DAYLIGHT
TZOFFSETFROM:+0100
TZOFFSETTO:+0000
TZNAME:GMT
DTSTART:20241027T010000
END:DAYLIGHT
END:VTIMEZONE
BEGIN:VEVENT
DTSTART;TZID=Europe/Dublin:20231203T113000
DTEND;TZID=Europe/Dublin:20231203T123000
DTSTAMP:20260420T062116
CREATED:20231201T141100Z
LAST-MODIFIED:20231201T143934Z
UID:4291-1701603000-1701606600@castleknock.dublin.anglican.org
SUMMARY:Holy Communion
DESCRIPTION:A Service of Holy Communion will be celebrated to mark The First Sunday of Advent in St. Brigid’s Church\, Castleknock\, on Sunday 3 December 2023. We would love you to join us as we worship together. Please feel free to share! This service will be live streamed on our YouTube channel on https://www.youtube.com/channel/UC_4GE2QH5nUxy5CdRZqoMrA.
URL:https://castleknock.dublin.anglican.org/event/holy-communion-182/
LOCATION:St. Brigid’s Church\, Castleknock
CATEGORIES:Services
END:VEVENT
BEGIN:VEVENT
DTSTART;TZID=Europe/Dublin:20231206T103000
DTEND;TZID=Europe/Dublin:20231206T113000
DTSTAMP:20260420T062116
CREATED:20231103T132846Z
LAST-MODIFIED:20231201T143934Z
UID:4218-1701858600-1701862200@castleknock.dublin.anglican.org
SUMMARY:Midweek Holy Communion Service
DESCRIPTION:There will be a Midweek Holy Communion Service in Castleknock Parish Centre\, followed by coffee and a chat\, on Wednesday 6 December 2023. We would love you to join us as we worship together.
URL:https://castleknock.dublin.anglican.org/event/midweek-holy-communion-service-89/
LOCATION:Castleknock Parish Centre
CATEGORIES:Services
END:VEVENT
BEGIN:VEVENT
DTSTART;TZID=Europe/Dublin:20231210T113000
DTEND;TZID=Europe/Dublin:20231210T123000
DTSTAMP:20260420T062116
CREATED:20231201T141105Z
LAST-MODIFIED:20231208T114522Z
UID:4294-1702207800-1702211400@castleknock.dublin.anglican.org
SUMMARY:Castleknock National School Carol Service
DESCRIPTION:Castleknock National School Carol Service will be in St. Brigid’s Church\, Castleknock\, on Sunday 10 December 2023. We would love you to join us as we worship together. Please feel free to share! This service will be live streamed on our YouTube channel on https://youtube.com/live/tZG-zNwTDVQ.
URL:https://castleknock.dublin.anglican.org/event/castleknock-national-school-carol-service-2/
LOCATION:St. Brigid’s Church\, Castleknock
CATEGORIES:Services
END:VEVENT
BEGIN:VEVENT
DTSTART;TZID=Europe/Dublin:20231213T103000
DTEND;TZID=Europe/Dublin:20231213T113000
DTSTAMP:20260420T062116
CREATED:20231201T141309Z
LAST-MODIFIED:20231201T143952Z
UID:4299-1702463400-1702467000@castleknock.dublin.anglican.org
SUMMARY:Midweek Holy Communion Service
DESCRIPTION:There will be a Midweek Holy Communion Service in Castleknock Parish Centre\, followed by coffee and a chat\, on Wednesday 13 December 2023. We would love you to join us as we worship together.
URL:https://castleknock.dublin.anglican.org/event/midweek-holy-communion-service-90/
LOCATION:Castleknock Parish Centre
CATEGORIES:Services
END:VEVENT
BEGIN:VEVENT
DTSTART;TZID=Europe/Dublin:20231215T193000
DTEND;TZID=Europe/Dublin:20231215T203000
DTSTAMP:20260420T062116
CREATED:20231201T141309Z
LAST-MODIFIED:20231201T144007Z
UID:4300-1702668600-1702672200@castleknock.dublin.anglican.org
SUMMARY:Ecumenical Advent Carol Service
DESCRIPTION:There will be an Ecumenical Advent Carol Service in Our Lady Mother of the Church\, Castleknock\, on Friday 15th December 2023. Please feel free to share!
URL:https://castleknock.dublin.anglican.org/event/ecumenical-advent-carol-service-2/
CATEGORIES:Services
END:VEVENT
BEGIN:VEVENT
DTSTART;TZID=Europe/Dublin:20231217T113000
DTEND;TZID=Europe/Dublin:20231217T123000
DTSTAMP:20260420T062116
CREATED:20231201T141311Z
LAST-MODIFIED:20231201T144008Z
UID:4302-1702812600-1702816200@castleknock.dublin.anglican.org
SUMMARY:Christmas Messy Church and Sunday Club Party
DESCRIPTION:There will be a Christmas Messy Church and Sunday Club Party in Castleknock Parish Centre\, on Sunday 17 December 2023. We would love you to join us as we worship together. Please feel free to share!
URL:https://castleknock.dublin.anglican.org/event/christmas-messy-church-and-sunday-club-party-2/
LOCATION:Castleknock Parish Centre
CATEGORIES:Services
END:VEVENT
BEGIN:VEVENT
DTSTART;TZID=Europe/Dublin:20231217T190000
DTEND;TZID=Europe/Dublin:20231217T200000
DTSTAMP:20260420T062116
CREATED:20231201T141311Z
LAST-MODIFIED:20231217T151458Z
UID:4303-1702839600-1702843200@castleknock.dublin.anglican.org
SUMMARY:Service of Nine Lessons and Carols
DESCRIPTION:There will be a Service of Nine Lessons and Carols in St. Brigid’s Church\, Castleknock\, on Sunday 17 December 2023. This service will be live streamed on our YouTube channel on https://youtube.com/live/9hHhovRxyzQ.
URL:https://castleknock.dublin.anglican.org/event/service-of-nine-lessons-and-carols-2/
LOCATION:St. Brigid’s Church\, Castleknock
CATEGORIES:Services
END:VEVENT
BEGIN:VEVENT
DTSTART;TZID=Europe/Dublin:20231220T103000
DTEND;TZID=Europe/Dublin:20231220T113000
DTSTAMP:20260420T062116
CREATED:20231201T141507Z
LAST-MODIFIED:20231201T144022Z
UID:4304-1703068200-1703071800@castleknock.dublin.anglican.org
SUMMARY:Midweek Holy Communion Service
DESCRIPTION:There will be a Midweek Holy Communion Service in Castleknock Parish Centre\, followed by coffee and a chat\, on Wednesday 20 December 2023. We would love you to join us as we worship together.
URL:https://castleknock.dublin.anglican.org/event/midweek-holy-communion-service-91/
LOCATION:Castleknock Parish Centre
CATEGORIES:Services
END:VEVENT
BEGIN:VEVENT
DTSTART;TZID=Europe/Dublin:20231224T233000
DTEND;TZID=Europe/Dublin:20231224T233000
DTSTAMP:20260420T062116
CREATED:20231201T141507Z
LAST-MODIFIED:20231222T193100Z
UID:4305-1703460600-1703460600@castleknock.dublin.anglican.org
SUMMARY:Christmas Eve Holy Communion
DESCRIPTION:Christmas Eve Holy Communion will be celebrated in St. Brigid’s Church\, Castleknock\, on Saturday 24 December 2023. We would love you to join us as we worship together. Please feel free to share! This service will be live streamed on our YouTube channel on https://youtube.com/live/XPgLtwZ6hs8.
URL:https://castleknock.dublin.anglican.org/event/christmas-eve-holy-communion-2/
LOCATION:St. Brigid’s Church\, Castleknock
CATEGORIES:Services
END:VEVENT
BEGIN:VEVENT
DTSTART;TZID=Europe/Dublin:20231225T113000
DTEND;TZID=Europe/Dublin:20231225T123000
DTSTAMP:20260420T062116
CREATED:20231201T141509Z
LAST-MODIFIED:20231222T193238Z
UID:4307-1703503800-1703507400@castleknock.dublin.anglican.org
SUMMARY:Christmas Day Family Worship with Holy Communion
DESCRIPTION:Christmas Day Family Worship with Holy Communion will be celebrated in St. Brigid’s Church\, Castleknock\, on Monday 25 December 2023. We would love you to join us as we worship together. Please feel free to share! This service will be live streamed on our YouTube channel on https://youtube.com/live/dpbFIiHa_hE.
URL:https://castleknock.dublin.anglican.org/event/christmas-day-family-worship-with-holy-communion-4/
LOCATION:St. Brigid’s Church\, Castleknock
CATEGORIES:Services
END:VEVENT
BEGIN:VEVENT
DTSTART;TZID=Europe/Dublin:20231231T113000
DTEND;TZID=Europe/Dublin:20231231T123000
DTSTAMP:20260420T062116
CREATED:20231201T143007Z
LAST-MODIFIED:20231229T142540Z
UID:4325-1704022200-1704025800@castleknock.dublin.anglican.org
SUMMARY:United Service with Holy Communion
DESCRIPTION:There will be a United Service with Holy Communion to mark The First Sunday of Christmas in St. Brigid’s Church\, Castleknock\, on Sunday 31 December 2023. We would love you to join us as we worship together. Please feel free to share! This service will be live streamed on our YouTube channel on https://youtube.com/live/IO3kTz4ljPA.
URL:https://castleknock.dublin.anglican.org/event/united-service-8/
LOCATION:St. Brigid’s Church\, Castleknock
CATEGORIES:Services
END:VEVENT
END:VCALENDAR