BEGIN:VCALENDAR
VERSION:2.0
PRODID:-//Parish of Castleknock and Mulhuddart with Clonsilla - ECPv6.15.20//NONSGML v1.0//EN
CALSCALE:GREGORIAN
METHOD:PUBLISH
X-ORIGINAL-URL:https://castleknock.dublin.anglican.org
X-WR-CALDESC:Events for Parish of Castleknock and Mulhuddart with Clonsilla
REFRESH-INTERVAL;VALUE=DURATION:PT1H
X-Robots-Tag:noindex
X-PUBLISHED-TTL:PT1H
BEGIN:VTIMEZONE
TZID:Europe/Dublin
BEGIN:STANDARD
TZOFFSETFROM:+0000
TZOFFSETTO:+0100
TZNAME:IST
DTSTART:20220327T010000
END:STANDARD
BEGIN:DAYLIGHT
TZOFFSETFROM:+0100
TZOFFSETTO:+0000
TZNAME:GMT
DTSTART:20221030T010000
END:DAYLIGHT
BEGIN:STANDARD
TZOFFSETFROM:+0000
TZOFFSETTO:+0100
TZNAME:IST
DTSTART:20230326T010000
END:STANDARD
BEGIN:DAYLIGHT
TZOFFSETFROM:+0100
TZOFFSETTO:+0000
TZNAME:GMT
DTSTART:20231029T010000
END:DAYLIGHT
BEGIN:STANDARD
TZOFFSETFROM:+0000
TZOFFSETTO:+0100
TZNAME:IST
DTSTART:20240331T010000
END:STANDARD
BEGIN:DAYLIGHT
TZOFFSETFROM:+0100
TZOFFSETTO:+0000
TZNAME:GMT
DTSTART:20241027T010000
END:DAYLIGHT
END:VTIMEZONE
BEGIN:VEVENT
DTSTART;TZID=Europe/Dublin:20231101T103000
DTEND;TZID=Europe/Dublin:20231101T113000
DTSTAMP:20260420T070703
CREATED:20230920T201610Z
LAST-MODIFIED:20231103T134315Z
UID:4150-1698834600-1698838200@castleknock.dublin.anglican.org
SUMMARY:Midweek Holy Communion Service
DESCRIPTION:There will be a Midweek Holy Communion Service in Castleknock Parish Centre\, followed by coffee and a chat\, on Wednesday 1 November 2023. We would love you to join us as we worship together.
URL:https://castleknock.dublin.anglican.org/event/midweek-holy-communion-service-84/
LOCATION:Castleknock Parish Centre
CATEGORIES:Services
END:VEVENT
BEGIN:VEVENT
DTSTART;TZID=Europe/Dublin:20231105T113000
DTEND;TZID=Europe/Dublin:20231105T123000
DTSTAMP:20260420T070703
CREATED:20231103T132627Z
LAST-MODIFIED:20231103T135337Z
UID:4195-1699183800-1699187400@castleknock.dublin.anglican.org
SUMMARY:Holy Communion
DESCRIPTION:A Service of Holy Communion will be celebrated to mark The Fourth Sunday before Advent (Proper 26) in St. Brigid’s Church\, Castleknock\, on Sunday 5 November 2023. We would love you to join us as we worship together. Please feel free to share! This service will be live streamed on our YouTube channel on https://youtube.com/live/wr5bsx42Ow0.
URL:https://castleknock.dublin.anglican.org/event/holy-communion-177/
LOCATION:St. Brigid’s Church\, Castleknock
CATEGORIES:Services
END:VEVENT
BEGIN:VEVENT
DTSTART;TZID=Europe/Dublin:20231108T103000
DTEND;TZID=Europe/Dublin:20231108T113000
DTSTAMP:20260420T070703
CREATED:20231103T132629Z
LAST-MODIFIED:20231103T134316Z
UID:4197-1699439400-1699443000@castleknock.dublin.anglican.org
SUMMARY:Midweek Holy Communion Service
DESCRIPTION:There will be a Midweek Holy Communion Service in Castleknock Parish Centre\, followed by coffee and a chat\, on Wednesday 8 November 2023. We would love you to join us as we worship together.
URL:https://castleknock.dublin.anglican.org/event/midweek-holy-communion-service-85/
LOCATION:Castleknock Parish Centre
CATEGORIES:Services
END:VEVENT
BEGIN:VEVENT
DTSTART;TZID=Europe/Dublin:20231112T113000
DTEND;TZID=Europe/Dublin:20231112T123000
DTSTAMP:20260420T070703
CREATED:20231103T132633Z
LAST-MODIFIED:20231110T192214Z
UID:4200-1699788600-1699792200@castleknock.dublin.anglican.org
SUMMARY:Morning Prayer
DESCRIPTION:There will be a service of Morning Prayer to mark The Third Sunday before Advent (Proper 27) in St. Brigid’s Church\, Castleknock\, on Sunday 12 November 2023. We would love you to join us as we worship together. Please feel free to share! This service will be live streamed on our YouTube channel on https://youtube.com/live/3lAippdl3TA.
URL:https://castleknock.dublin.anglican.org/event/morning-prayer-74/
LOCATION:St. Brigid’s Church\, Castleknock
CATEGORIES:Services
END:VEVENT
BEGIN:VEVENT
DTSTART;TZID=Europe/Dublin:20231115T103000
DTEND;TZID=Europe/Dublin:20231115T113000
DTSTAMP:20260420T070703
CREATED:20231103T132651Z
LAST-MODIFIED:20231103T134319Z
UID:4202-1700044200-1700047800@castleknock.dublin.anglican.org
SUMMARY:Midweek Holy Communion Service
DESCRIPTION:There will be a Midweek Holy Communion Service in Castleknock Parish Centre\, followed by coffee and a chat\, on Wednesday 15 November 2023. We would love you to join us as we worship together.
URL:https://castleknock.dublin.anglican.org/event/midweek-holy-communion-service-86/
LOCATION:Castleknock Parish Centre
CATEGORIES:Services
END:VEVENT
BEGIN:VEVENT
DTSTART;TZID=Europe/Dublin:20231119T113000
DTEND;TZID=Europe/Dublin:20231119T123000
DTSTAMP:20260420T070703
CREATED:20231103T132653Z
LAST-MODIFIED:20231117T195953Z
UID:4205-1700393400-1700397000@castleknock.dublin.anglican.org
SUMMARY:Holy Communion
DESCRIPTION:A Service of Holy Communion will be celebrated to mark The Second Sunday before Advent (Proper 28) in St. Brigid’s Church\, Castleknock\, on Sunday 19 November 2023. We would love you to join us as we worship together. Please feel free to share! This service will be live streamed on our YouTube channel on https://youtube.com/live/D-NcZow6YDY.
URL:https://castleknock.dublin.anglican.org/event/holy-communion-179/
LOCATION:St. Brigid’s Church\, Castleknock
CATEGORIES:Services
END:VEVENT
BEGIN:VEVENT
DTSTART;TZID=Europe/Dublin:20231122T103000
DTEND;TZID=Europe/Dublin:20231122T113000
DTSTAMP:20260420T070703
CREATED:20231103T132707Z
LAST-MODIFIED:20231103T134343Z
UID:4209-1700649000-1700652600@castleknock.dublin.anglican.org
SUMMARY:Midweek Holy Communion Service
DESCRIPTION:There will be a Midweek Holy Communion Service in Castleknock Parish Centre\, followed by coffee and a chat\, on Wednesday 22 November 2023. We would love you to join us as we worship together.
URL:https://castleknock.dublin.anglican.org/event/midweek-holy-communion-service-87/
LOCATION:Castleknock Parish Centre
CATEGORIES:Services
END:VEVENT
BEGIN:VEVENT
DTSTART;TZID=Europe/Dublin:20231126T113000
DTEND;TZID=Europe/Dublin:20231126T123000
DTSTAMP:20260420T070703
CREATED:20231103T132739Z
LAST-MODIFIED:20231124T134924Z
UID:4212-1700998200-1701001800@castleknock.dublin.anglican.org
SUMMARY:Cornerstone Service with GB and BB Enrolment
DESCRIPTION:There will be a Cornerstone Service with GB and BB Enrolment to mark The Kingship of Christ – Mission Sunday (Proper 29) in St. Brigid’s Church\, Castleknock\, on Sunday 26 November 2023. We would love you to join us as we worship together. Please feel free to share! This service will be live streamed on our YouTube channel. \n 
URL:https://castleknock.dublin.anglican.org/event/cornerstone-service-with-gb-and-bb-enrolment/
LOCATION:St. Brigid’s Church\, Castleknock
CATEGORIES:Services
END:VEVENT
BEGIN:VEVENT
DTSTART;TZID=Europe/Dublin:20231129T103000
DTEND;TZID=Europe/Dublin:20231129T113000
DTSTAMP:20260420T070703
CREATED:20231103T132845Z
LAST-MODIFIED:20231103T134404Z
UID:4216-1701253800-1701257400@castleknock.dublin.anglican.org
SUMMARY:Midweek Holy Communion Service
DESCRIPTION:There will be a Midweek Holy Communion Service in Castleknock Parish Centre\, followed by coffee and a chat\, on Wednesday 29 November 2023. We would love you to join us as we worship together.
URL:https://castleknock.dublin.anglican.org/event/midweek-holy-communion-service-88/
LOCATION:Castleknock Parish Centre
CATEGORIES:Services
END:VEVENT
END:VCALENDAR