BEGIN:VCALENDAR
VERSION:2.0
PRODID:-//Parish of Castleknock and Mulhuddart with Clonsilla - ECPv6.15.20//NONSGML v1.0//EN
CALSCALE:GREGORIAN
METHOD:PUBLISH
X-WR-CALNAME:Parish of Castleknock and Mulhuddart with Clonsilla
X-ORIGINAL-URL:https://castleknock.dublin.anglican.org
X-WR-CALDESC:Events for Parish of Castleknock and Mulhuddart with Clonsilla
REFRESH-INTERVAL;VALUE=DURATION:PT1H
X-Robots-Tag:noindex
X-PUBLISHED-TTL:PT1H
BEGIN:VTIMEZONE
TZID:Europe/Dublin
BEGIN:STANDARD
TZOFFSETFROM:+0000
TZOFFSETTO:+0100
TZNAME:IST
DTSTART:20220327T010000
END:STANDARD
BEGIN:DAYLIGHT
TZOFFSETFROM:+0100
TZOFFSETTO:+0000
TZNAME:GMT
DTSTART:20221030T010000
END:DAYLIGHT
BEGIN:STANDARD
TZOFFSETFROM:+0000
TZOFFSETTO:+0100
TZNAME:IST
DTSTART:20230326T010000
END:STANDARD
BEGIN:DAYLIGHT
TZOFFSETFROM:+0100
TZOFFSETTO:+0000
TZNAME:GMT
DTSTART:20231029T010000
END:DAYLIGHT
BEGIN:STANDARD
TZOFFSETFROM:+0000
TZOFFSETTO:+0100
TZNAME:IST
DTSTART:20240331T010000
END:STANDARD
BEGIN:DAYLIGHT
TZOFFSETFROM:+0100
TZOFFSETTO:+0000
TZNAME:GMT
DTSTART:20241027T010000
END:DAYLIGHT
END:VTIMEZONE
BEGIN:VEVENT
DTSTART;TZID=Europe/Dublin:20230201T103000
DTEND;TZID=Europe/Dublin:20230201T113000
DTSTAMP:20260422T115551
CREATED:20221218T141831Z
LAST-MODIFIED:20230131T172519Z
UID:3460-1675247400-1675251000@castleknock.dublin.anglican.org
SUMMARY:Midweek Holy Communion Service
DESCRIPTION:There will be a Midweek Holy Communion Service to celebrate the feast of Saint Brigid in Castleknock Parish Centre\, followed by coffee and a chat\, on Wednesday 1 February 2023. We would love you to join us as we worship together.
URL:https://castleknock.dublin.anglican.org/event/midweek-holy-communion-service-44/
LOCATION:Castleknock Parish Centre
CATEGORIES:Services
END:VEVENT
BEGIN:VEVENT
DTSTART;TZID=Europe/Dublin:20230205T113000
DTEND;TZID=Europe/Dublin:20230205T123000
DTSTAMP:20260422T115551
CREATED:20230131T172520Z
LAST-MODIFIED:20230203T075601Z
UID:3547-1675596600-1675600200@castleknock.dublin.anglican.org
SUMMARY:Morning Prayer
DESCRIPTION:There will be a service of Morning Prayer to mark The Third Sunday before Lent in St. Brigid’s Church\, Castleknock\, on Sunday 5 February 2023. We would love you to join us as we worship together. Please feel free to share! This service will be live streamed on our YouTube channel on https://youtube.com/live/FDy9xLWEKJw.
URL:https://castleknock.dublin.anglican.org/event/morning-prayer-59/
LOCATION:St. Brigid’s Church\, Castleknock
CATEGORIES:Services
END:VEVENT
BEGIN:VEVENT
DTSTART;TZID=Europe/Dublin:20230212T113000
DTEND;TZID=Europe/Dublin:20230212T123000
DTSTAMP:20260422T115551
CREATED:20230131T172525Z
LAST-MODIFIED:20230210T214415Z
UID:3550-1676201400-1676205000@castleknock.dublin.anglican.org
SUMMARY:Holy Communion
DESCRIPTION:A Service of Holy Communion will be celebrated to mark The Second Sunday before Lent in St. Brigid’s Church\, Castleknock\, on Sunday 12 February 2023. We would love you to join us as we worship together. Please feel free to share! This service will be live streamed on our YouTube channel on https://youtube.com/live/eBm962j0q0c.
URL:https://castleknock.dublin.anglican.org/event/holy-communion-134/
LOCATION:St. Brigid’s Church\, Castleknock
CATEGORIES:Services
END:VEVENT
BEGIN:VEVENT
DTSTART;TZID=Europe/Dublin:20230215T103000
DTEND;TZID=Europe/Dublin:20230215T113000
DTSTAMP:20260422T115551
CREATED:20230131T172527Z
LAST-MODIFIED:20230131T172527Z
UID:3554-1676457000-1676460600@castleknock.dublin.anglican.org
SUMMARY:Midweek Holy Communion Service
DESCRIPTION:There will be a Midweek Holy Communion Service in Castleknock Parish Centre\, followed by coffee and a chat\, on Wednesday 15 February 2023. We would love you to join us as we worship together.
URL:https://castleknock.dublin.anglican.org/event/midweek-holy-communion-service-48/
LOCATION:Castleknock Parish Centre
CATEGORIES:Services
END:VEVENT
BEGIN:VEVENT
DTSTART;TZID=Europe/Dublin:20230219T113000
DTEND;TZID=Europe/Dublin:20230219T123000
DTSTAMP:20260422T115551
CREATED:20230131T172541Z
LAST-MODIFIED:20230217T161243Z
UID:3556-1676806200-1676809800@castleknock.dublin.anglican.org
SUMMARY:Holy Communion
DESCRIPTION:A Service of Holy Communion will be celebrated to mark The Sunday before Lent in St. Brigid’s Church\, Castleknock\, on Sunday 19 February 2023. We would love you to join us as we worship together. Please feel free to share! This service will be live streamed on our YouTube channel on https://youtube.com/live/0maOLeRYtDs.
URL:https://castleknock.dublin.anglican.org/event/holy-communion-136/
LOCATION:St. Brigid’s Church\, Castleknock
CATEGORIES:Services
END:VEVENT
BEGIN:VEVENT
DTSTART;TZID=Europe/Dublin:20230222T103000
DTEND;TZID=Europe/Dublin:20230222T113000
DTSTAMP:20260422T115551
CREATED:20230131T172555Z
LAST-MODIFIED:20230131T172555Z
UID:3560-1677061800-1677065400@castleknock.dublin.anglican.org
SUMMARY:Midweek Holy Communion Service
DESCRIPTION:There will be a Midweek Holy Communion Service in Castleknock Parish Centre\, followed by coffee and a chat\, on Wednesday 22 February 2023. We would love you to join us as we worship together.
URL:https://castleknock.dublin.anglican.org/event/midweek-holy-communion-service-49/
LOCATION:Castleknock Parish Centre
CATEGORIES:Services
END:VEVENT
BEGIN:VEVENT
DTSTART;TZID=Europe/Dublin:20230222T200000
DTEND;TZID=Europe/Dublin:20230222T210000
DTSTAMP:20260422T115551
CREATED:20230131T172555Z
LAST-MODIFIED:20230131T172555Z
UID:3561-1677096000-1677099600@castleknock.dublin.anglican.org
SUMMARY:Ash Wedesday Holy Communion
DESCRIPTION:A service of Holy Communion will be celebrated to mark Ash Wednesday.  This will be a quiet\, reflective time as we come before God in preparation for Lent and the journey with Jesus to the cross.
URL:https://castleknock.dublin.anglican.org/event/ash-wedesday-holy-communion/
LOCATION:St. Brigid’s Church\, Castleknock
CATEGORIES:Services
END:VEVENT
BEGIN:VEVENT
DTSTART;TZID=Europe/Dublin:20230226T113000
DTEND;TZID=Europe/Dublin:20230226T123000
DTSTAMP:20260422T115551
CREATED:20230131T172557Z
LAST-MODIFIED:20230224T191849Z
UID:3564-1677411000-1677414600@castleknock.dublin.anglican.org
SUMMARY:Cornerstone Service
DESCRIPTION:There will be a Cornerstone Service to mark The First Sunday in Lent in St. Brigid’s Church\, Castleknock\, on Sunday 26 February 2023. We would love you to join us as we worship together. Please feel free to share! This service will be live streamed on our YouTube channel on \n \n.
URL:https://castleknock.dublin.anglican.org/event/cornerstone-service-7/
LOCATION:St. Brigid’s Church\, Castleknock
CATEGORIES:Services
END:VEVENT
END:VCALENDAR