BEGIN:VCALENDAR
VERSION:2.0
PRODID:-//Parish of Castleknock and Mulhuddart with Clonsilla - ECPv6.15.20//NONSGML v1.0//EN
CALSCALE:GREGORIAN
METHOD:PUBLISH
X-ORIGINAL-URL:https://castleknock.dublin.anglican.org
X-WR-CALDESC:Events for Parish of Castleknock and Mulhuddart with Clonsilla
REFRESH-INTERVAL;VALUE=DURATION:PT1H
X-Robots-Tag:noindex
X-PUBLISHED-TTL:PT1H
BEGIN:VTIMEZONE
TZID:Europe/Dublin
BEGIN:STANDARD
TZOFFSETFROM:+0000
TZOFFSETTO:+0100
TZNAME:IST
DTSTART:20220327T010000
END:STANDARD
BEGIN:DAYLIGHT
TZOFFSETFROM:+0100
TZOFFSETTO:+0000
TZNAME:GMT
DTSTART:20221030T010000
END:DAYLIGHT
BEGIN:STANDARD
TZOFFSETFROM:+0000
TZOFFSETTO:+0100
TZNAME:IST
DTSTART:20230326T010000
END:STANDARD
BEGIN:DAYLIGHT
TZOFFSETFROM:+0100
TZOFFSETTO:+0000
TZNAME:GMT
DTSTART:20231029T010000
END:DAYLIGHT
BEGIN:STANDARD
TZOFFSETFROM:+0000
TZOFFSETTO:+0100
TZNAME:IST
DTSTART:20240331T010000
END:STANDARD
BEGIN:DAYLIGHT
TZOFFSETFROM:+0100
TZOFFSETTO:+0000
TZNAME:GMT
DTSTART:20241027T010000
END:DAYLIGHT
END:VTIMEZONE
BEGIN:VEVENT
DTSTART;TZID=Europe/Dublin:20230101T113000
DTEND;TZID=Europe/Dublin:20230101T123000
DTSTAMP:20260423T054606
CREATED:20221218T141822Z
LAST-MODIFIED:20221227T125749Z
UID:3450-1672572600-1672576200@castleknock.dublin.anglican.org
SUMMARY:United Service
DESCRIPTION:There will be a United Service to mark The Naming and Circumcision of Jesus in St. Brigid’s Church\, Castleknock\, on Sunday 1 January 2023. We would love you to join us as we worship together. Please feel free to share! This service will be live streamed on our YouTube channel on https://youtu.be/WV8UJZcQ5EI.
URL:https://castleknock.dublin.anglican.org/event/united-service-2/
LOCATION:St. Brigid’s Church\, Castleknock
CATEGORIES:Services
END:VEVENT
BEGIN:VEVENT
DTSTART;TZID=Europe/Dublin:20230108T113000
DTEND;TZID=Europe/Dublin:20230108T123000
DTSTAMP:20260423T054606
CREATED:20221218T141827Z
LAST-MODIFIED:20230104T213241Z
UID:3452-1673177400-1673181000@castleknock.dublin.anglican.org
SUMMARY:Morning Prayer
DESCRIPTION:There will be a service of Morning Prayer to mark The First Sunday after the Epiphany: The Baptism of our Lord in St. Brigid’s Church\, Castleknock\, on Sunday 8 January 2023. We would love you to join us as we worship together. Please feel free to share! This service will be live streamed on our YouTube channel on https://youtu.be/0uy9m-CLF50.
URL:https://castleknock.dublin.anglican.org/event/morning-prayer-57/
LOCATION:St. Brigid’s Church\, Castleknock
CATEGORIES:Services
END:VEVENT
BEGIN:VEVENT
DTSTART;TZID=Europe/Dublin:20230111T103000
DTEND;TZID=Europe/Dublin:20230111T113000
DTSTAMP:20260423T054606
CREATED:20230104T211343Z
LAST-MODIFIED:20230104T211343Z
UID:3473-1673433000-1673436600@castleknock.dublin.anglican.org
SUMMARY:Midweek Holy Communion Service
DESCRIPTION:There will be a Midweek Holy Communion Service in Castleknock Parish Centre\, followed by coffee and a chat\, on Wednesday 11 January 2023. We would love you to join us as we worship together.
URL:https://castleknock.dublin.anglican.org/event/midweek-holy-communion-service-45/
LOCATION:Castleknock Parish Centre
CATEGORIES:Services
END:VEVENT
BEGIN:VEVENT
DTSTART;TZID=Europe/Dublin:20230115T113000
DTEND;TZID=Europe/Dublin:20230115T123000
DTSTAMP:20260423T054606
CREATED:20221218T141828Z
LAST-MODIFIED:20230113T183752Z
UID:3455-1673782200-1673785800@castleknock.dublin.anglican.org
SUMMARY:Holy Communion
DESCRIPTION:A Service of Holy Communion will be celebrated to mark The Second Sunday after the Epiphany in St. Brigid’s Church\, Castleknock\, on Sunday 15 January 2023. We would love you to join us as we worship together. Please feel free to share! This service will be live streamed on our YouTube channel on https://youtu.be/1CyWn_acx20.
URL:https://castleknock.dublin.anglican.org/event/holy-communion-131/
LOCATION:St. Brigid’s Church\, Castleknock
CATEGORIES:Services
END:VEVENT
BEGIN:VEVENT
DTSTART;TZID=Europe/Dublin:20230118T103000
DTEND;TZID=Europe/Dublin:20230118T113000
DTSTAMP:20260423T054606
CREATED:20230104T211343Z
LAST-MODIFIED:20230104T211343Z
UID:3474-1674037800-1674041400@castleknock.dublin.anglican.org
SUMMARY:Midweek Holy Communion Service
DESCRIPTION:There will be a Midweek Holy Communion Service in Castleknock Parish Centre\, followed by coffee and a chat\, on Wednesday 18 January 2023. We would love you to join us as we worship together.
URL:https://castleknock.dublin.anglican.org/event/midweek-holy-communion-service-46/
LOCATION:Castleknock Parish Centre
CATEGORIES:Services
END:VEVENT
BEGIN:VEVENT
DTSTART;TZID=Europe/Dublin:20230122T113000
DTEND;TZID=Europe/Dublin:20230122T123000
DTSTAMP:20260423T054606
CREATED:20221218T141830Z
LAST-MODIFIED:20230120T100350Z
UID:3457-1674387000-1674390600@castleknock.dublin.anglican.org
SUMMARY:Cornerstone Service
DESCRIPTION:There will be a Cornerstone Service to mark The Third Sunday after the Epiphany in St. Brigid’s Church\, Castleknock\, on Sunday 22 January 2023. We would love you to join us as we worship together. Please feel free to share! This service will be live streamed on our YouTube channel on https://youtu.be/MrDly–pQoA.
URL:https://castleknock.dublin.anglican.org/event/cornerstone-service-5/
LOCATION:St. Brigid’s Church\, Castleknock
CATEGORIES:Services
END:VEVENT
BEGIN:VEVENT
DTSTART;TZID=Europe/Dublin:20230125T103000
DTEND;TZID=Europe/Dublin:20230125T113000
DTSTAMP:20260423T054606
CREATED:20230104T211344Z
LAST-MODIFIED:20230104T211344Z
UID:3475-1674642600-1674646200@castleknock.dublin.anglican.org
SUMMARY:Midweek Holy Communion Service
DESCRIPTION:There will be a Midweek Holy Communion Service in Castleknock Parish Centre\, followed by coffee and a chat\, on Wednesday 25 January 2023. We would love you to join us as we worship together.
URL:https://castleknock.dublin.anglican.org/event/midweek-holy-communion-service-47/
LOCATION:Castleknock Parish Centre
CATEGORIES:Services
END:VEVENT
BEGIN:VEVENT
DTSTART;TZID=Europe/Dublin:20230129T113000
DTEND;TZID=Europe/Dublin:20230129T123000
DTSTAMP:20260423T054606
CREATED:20221218T141830Z
LAST-MODIFIED:20230127T200151Z
UID:3459-1674991800-1674995400@castleknock.dublin.anglican.org
SUMMARY:United Service
DESCRIPTION:There will be a United Service to mark The Fourth Sunday after The Epiphany in St. Brigid’s Church\, Castleknock\, on Sunday 29 January 2023. We would love you to join us as we worship together. Please feel free to share! This service will be live streamed on our YouTube channel on https://youtube.com/live/U-apR6dV-xI.
URL:https://castleknock.dublin.anglican.org/event/united-service-3/
LOCATION:St. Brigid’s Church\, Castleknock
CATEGORIES:Services
END:VEVENT
END:VCALENDAR