BEGIN:VCALENDAR
VERSION:2.0
PRODID:-//Parish of Castleknock and Mulhuddart with Clonsilla - ECPv6.15.20//NONSGML v1.0//EN
CALSCALE:GREGORIAN
METHOD:PUBLISH
X-WR-CALNAME:Parish of Castleknock and Mulhuddart with Clonsilla
X-ORIGINAL-URL:https://castleknock.dublin.anglican.org
X-WR-CALDESC:Events for Parish of Castleknock and Mulhuddart with Clonsilla
REFRESH-INTERVAL;VALUE=DURATION:PT1H
X-Robots-Tag:noindex
X-PUBLISHED-TTL:PT1H
BEGIN:VTIMEZONE
TZID:Europe/Dublin
BEGIN:STANDARD
TZOFFSETFROM:+0000
TZOFFSETTO:+0100
TZNAME:IST
DTSTART:20220327T010000
END:STANDARD
BEGIN:DAYLIGHT
TZOFFSETFROM:+0100
TZOFFSETTO:+0000
TZNAME:GMT
DTSTART:20221030T010000
END:DAYLIGHT
BEGIN:STANDARD
TZOFFSETFROM:+0000
TZOFFSETTO:+0100
TZNAME:IST
DTSTART:20230326T010000
END:STANDARD
BEGIN:DAYLIGHT
TZOFFSETFROM:+0100
TZOFFSETTO:+0000
TZNAME:GMT
DTSTART:20231029T010000
END:DAYLIGHT
BEGIN:STANDARD
TZOFFSETFROM:+0000
TZOFFSETTO:+0100
TZNAME:IST
DTSTART:20240331T010000
END:STANDARD
BEGIN:DAYLIGHT
TZOFFSETFROM:+0100
TZOFFSETTO:+0000
TZNAME:GMT
DTSTART:20241027T010000
END:DAYLIGHT
END:VTIMEZONE
BEGIN:VEVENT
DTSTART;VALUE=DATE:20231206
DTEND;VALUE=DATE:20231207
DTSTAMP:20260420T062001
CREATED:20231103T134404Z
LAST-MODIFIED:20231201T143937Z
UID:4258-1701820800-1701907199@castleknock.dublin.anglican.org
SUMMARY:Wednesday Club Christmas Lunch
DESCRIPTION:More details to follow
URL:https://castleknock.dublin.anglican.org/event/wednesday-club-christmas-lunch/
CATEGORIES:Organisation
END:VEVENT
BEGIN:VEVENT
DTSTART;TZID=Europe/Dublin:20231207T100000
DTEND;TZID=Europe/Dublin:20231207T113000
DTSTAMP:20260420T062001
CREATED:20231201T142902Z
LAST-MODIFIED:20231201T143937Z
UID:4312-1701943200-1701948600@castleknock.dublin.anglican.org
SUMMARY:Tiny Tots
DESCRIPTION:This for all pre-school children and their parents/ carers in Castleknock Parish Centre will meet weekly during term time.  Tiny Tots is a great place for parents and carers to meet for chat and friendship and for little ones to have fun and play.  Please spread the word to anyone you know with young children who would benefit from getting to know others and have a place for the little ones to play and interact.  There will be fun activities and song time each week as well as special seasonal days to keep everyone entertained.  There will be a charge of â‚¬2 to cover the cost of refreshments.
URL:https://castleknock.dublin.anglican.org/event/tiny-tots-18/
LOCATION:Castleknock Parish Centre
CATEGORIES:Organisation
END:VEVENT
BEGIN:VEVENT
DTSTART;TZID=Europe/Dublin:20231211T103000
DTEND;TZID=Europe/Dublin:20231211T120000
DTSTAMP:20260420T062001
CREATED:20231103T132847Z
LAST-MODIFIED:20231201T143952Z
UID:4219-1702290600-1702296000@castleknock.dublin.anglican.org
SUMMARY:Craft Corner
DESCRIPTION:Are you interested in crafts or upcycling items?  We aim encourage people to exchange tips and ideas while creating something to take home after each get-together.  We meet once a month in Castleknock Parish Centre from 10.30 a.m. â€“ 12 noon.  Tea/coffee/biscuits and all materials are supplied for each craft at a cost of â‚¬5 per meeting.
URL:https://castleknock.dublin.anglican.org/event/craft-corner-11/
LOCATION:Castleknock Parish Centre
CATEGORIES:Organisation
END:VEVENT
BEGIN:VEVENT
DTSTART;TZID=Europe/Dublin:20231214T100000
DTEND;TZID=Europe/Dublin:20231214T113000
DTSTAMP:20260420T062001
CREATED:20231201T142933Z
LAST-MODIFIED:20231201T144007Z
UID:4314-1702548000-1702553400@castleknock.dublin.anglican.org
SUMMARY:Tiny Tots
DESCRIPTION:This for all pre-school children and their parents/ carers in Castleknock Parish Centre will meet weekly during term time.  Tiny Tots is a great place for parents and carers to meet for chat and friendship and for little ones to have fun and play.  Please spread the word to anyone you know with young children who would benefit from getting to know others and have a place for the little ones to play and interact.  There will be fun activities and song time each week as well as special seasonal days to keep everyone entertained.  There will be a charge of â‚¬2 to cover the cost of refreshments.
URL:https://castleknock.dublin.anglican.org/event/tiny-tots-19/
LOCATION:Castleknock Parish Centre
CATEGORIES:Organisation
END:VEVENT
BEGIN:VEVENT
DTSTART;TZID=Europe/Dublin:20231221T100000
DTEND;TZID=Europe/Dublin:20231221T113000
DTSTAMP:20260420T062001
CREATED:20231201T142948Z
LAST-MODIFIED:20231201T144022Z
UID:4321-1703152800-1703158200@castleknock.dublin.anglican.org
SUMMARY:Tiny Tots
DESCRIPTION:This for all pre-school children and their parents/ carers in Castleknock Parish Centre will meet weekly during term time.  Tiny Tots is a great place for parents and carers to meet for chat and friendship and for little ones to have fun and play.  Please spread the word to anyone you know with young children who would benefit from getting to know others and have a place for the little ones to play and interact.  There will be fun activities and song time each week as well as special seasonal days to keep everyone entertained.  There will be a charge of â‚¬2 to cover the cost of refreshments.
URL:https://castleknock.dublin.anglican.org/event/tiny-tots-20/
LOCATION:Castleknock Parish Centre
CATEGORIES:Organisation
END:VEVENT
END:VCALENDAR