BEGIN:VCALENDAR
VERSION:2.0
PRODID:-//Parish of Castleknock and Mulhuddart with Clonsilla - ECPv6.15.20//NONSGML v1.0//EN
CALSCALE:GREGORIAN
METHOD:PUBLISH
X-WR-CALNAME:Parish of Castleknock and Mulhuddart with Clonsilla
X-ORIGINAL-URL:https://castleknock.dublin.anglican.org
X-WR-CALDESC:Events for Parish of Castleknock and Mulhuddart with Clonsilla
REFRESH-INTERVAL;VALUE=DURATION:PT1H
X-Robots-Tag:noindex
X-PUBLISHED-TTL:PT1H
BEGIN:VTIMEZONE
TZID:Europe/Dublin
BEGIN:STANDARD
TZOFFSETFROM:+0000
TZOFFSETTO:+0100
TZNAME:IST
DTSTART:20250330T010000
END:STANDARD
BEGIN:DAYLIGHT
TZOFFSETFROM:+0100
TZOFFSETTO:+0000
TZNAME:GMT
DTSTART:20251026T010000
END:DAYLIGHT
BEGIN:STANDARD
TZOFFSETFROM:+0000
TZOFFSETTO:+0100
TZNAME:IST
DTSTART:20260329T010000
END:STANDARD
BEGIN:DAYLIGHT
TZOFFSETFROM:+0100
TZOFFSETTO:+0000
TZNAME:GMT
DTSTART:20261025T010000
END:DAYLIGHT
BEGIN:STANDARD
TZOFFSETFROM:+0000
TZOFFSETTO:+0100
TZNAME:IST
DTSTART:20270328T010000
END:STANDARD
BEGIN:DAYLIGHT
TZOFFSETFROM:+0100
TZOFFSETTO:+0000
TZNAME:GMT
DTSTART:20271031T010000
END:DAYLIGHT
END:VTIMEZONE
BEGIN:VEVENT
DTSTART;TZID=Europe/Dublin:20260419T100000
DTEND;TZID=Europe/Dublin:20260419T110000
DTSTAMP:20260419T151719
CREATED:20260223T135116Z
LAST-MODIFIED:20260412T203251Z
UID:5961-1776592800-1776596400@castleknock.dublin.anglican.org
SUMMARY:Holy Communion
DESCRIPTION:A Service of Holy Communion will be celebrated to mark The Third Sunday of Easter in St. Mary’s Church\, Clonsilla\, on Sunday 19 April 2026. We would love you to join us as we worship together.
URL:https://castleknock.dublin.anglican.org/event/holy-communion-312/
LOCATION:St. Mary’s Church\, Clonsilla
CATEGORIES:Services
END:VEVENT
BEGIN:VEVENT
DTSTART;TZID=Europe/Dublin:20260419T113000
DTEND;TZID=Europe/Dublin:20260419T123000
DTSTAMP:20260419T151719
CREATED:20260223T135117Z
LAST-MODIFIED:20260417T155417Z
UID:5962-1776598200-1776601800@castleknock.dublin.anglican.org
SUMMARY:Holy Communion
DESCRIPTION:A Service of Holy Communion will be celebrated to mark The Third Sunday of Easter in St. Brigid’s Church\, Castleknock\, on Sunday 19 April 2026. We would love you to join us as we worship together. Please feel free to share! This service will be live streamed on our YouTube channel on https://youtube.com/live/nK-j_0K2bTM.
URL:https://castleknock.dublin.anglican.org/event/holy-communion-313/
LOCATION:St. Brigid’s Church\, Castleknock
CATEGORIES:Services
END:VEVENT
BEGIN:VEVENT
DTSTART;TZID=Europe/Dublin:20260419T180000
DTEND;TZID=Europe/Dublin:20260419T193000
DTSTAMP:20260419T151719
CREATED:20260328T164253Z
LAST-MODIFIED:20260412T203258Z
UID:6032-1776621600-1776627000@castleknock.dublin.anglican.org
SUMMARY:Youth Group
DESCRIPTION:Youth Group will meet in Castleknock Parish Centre. Youth Group is open to all young people of secondary school age.
URL:https://castleknock.dublin.anglican.org/event/youth-group-17/
LOCATION:Castleknock Parish Centre
END:VEVENT
END:VCALENDAR