BEGIN:VCALENDAR
VERSION:2.0
PRODID:-//Parish of Castleknock and Mulhuddart with Clonsilla - ECPv6.15.20//NONSGML v1.0//EN
CALSCALE:GREGORIAN
METHOD:PUBLISH
X-WR-CALNAME:Parish of Castleknock and Mulhuddart with Clonsilla
X-ORIGINAL-URL:https://castleknock.dublin.anglican.org
X-WR-CALDESC:Events for Parish of Castleknock and Mulhuddart with Clonsilla
REFRESH-INTERVAL;VALUE=DURATION:PT1H
X-Robots-Tag:noindex
X-PUBLISHED-TTL:PT1H
BEGIN:VTIMEZONE
TZID:Europe/Dublin
BEGIN:STANDARD
TZOFFSETFROM:+0000
TZOFFSETTO:+0100
TZNAME:IST
DTSTART:20250330T010000
END:STANDARD
BEGIN:DAYLIGHT
TZOFFSETFROM:+0100
TZOFFSETTO:+0000
TZNAME:GMT
DTSTART:20251026T010000
END:DAYLIGHT
BEGIN:STANDARD
TZOFFSETFROM:+0000
TZOFFSETTO:+0100
TZNAME:IST
DTSTART:20260329T010000
END:STANDARD
BEGIN:DAYLIGHT
TZOFFSETFROM:+0100
TZOFFSETTO:+0000
TZNAME:GMT
DTSTART:20261025T010000
END:DAYLIGHT
BEGIN:STANDARD
TZOFFSETFROM:+0000
TZOFFSETTO:+0100
TZNAME:IST
DTSTART:20270328T010000
END:STANDARD
BEGIN:DAYLIGHT
TZOFFSETFROM:+0100
TZOFFSETTO:+0000
TZNAME:GMT
DTSTART:20271031T010000
END:DAYLIGHT
END:VTIMEZONE
BEGIN:VEVENT
DTSTART;TZID=Europe/Dublin:20260403T100000
DTEND;TZID=Europe/Dublin:20260403T113000
DTSTAMP:20260421T184228
CREATED:20260223T135046Z
LAST-MODIFIED:20260328T164204Z
UID:5951-1775210400-1775215800@castleknock.dublin.anglican.org
SUMMARY:Walk with the Cross
DESCRIPTION:There is an Ecumenical “Walk with the Cross” on Good Friday commencing from St Thomas the Apostle (Laurel Lodge) at 10am walking to Our Lady Mother of the Church (Beechpark) and finishing in St Brigid’s Church of Ireland. There will be a short time of reflection on each church.
URL:https://castleknock.dublin.anglican.org/event/walk-with-the-cross-4/
END:VEVENT
BEGIN:VEVENT
DTSTART;TZID=Europe/Dublin:20260403T200000
DTEND;TZID=Europe/Dublin:20260403T210000
DTSTAMP:20260421T184228
CREATED:20260223T135046Z
LAST-MODIFIED:20260328T164205Z
UID:5952-1775246400-1775250000@castleknock.dublin.anglican.org
SUMMARY:Holy Week Service
DESCRIPTION:There will be a Holy Week Service titled “Walking with the weight of the Cross” to mark Good Friday in St. Mary’s Church\, Clonsilla\, on Friday 3 April 2026. We would love you to join us as we worship together.
URL:https://castleknock.dublin.anglican.org/event/holy-week-service-8/
LOCATION:St. Mary’s Church\, Clonsilla
CATEGORIES:Services
END:VEVENT
END:VCALENDAR